BEGIN:VCALENDAR
VERSION:2.0
PRODID:-//Winnipeg Free Press - ECPv6.15.20//NONSGML v1.0//EN
CALSCALE:GREGORIAN
METHOD:PUBLISH
X-WR-CALNAME:Winnipeg Free Press
X-ORIGINAL-URL:https://www.winnipegfreepress.com
X-WR-CALDESC:Events for Winnipeg Free Press
REFRESH-INTERVAL;VALUE=DURATION:PT1H
X-Robots-Tag:noindex
X-PUBLISHED-TTL:PT1H
BEGIN:VTIMEZONE
TZID:America/Winnipeg
BEGIN:DAYLIGHT
TZOFFSETFROM:-0600
TZOFFSETTO:-0500
TZNAME:CDT
DTSTART:20250309T080000
END:DAYLIGHT
BEGIN:STANDARD
TZOFFSETFROM:-0500
TZOFFSETTO:-0600
TZNAME:CST
DTSTART:20251102T070000
END:STANDARD
BEGIN:DAYLIGHT
TZOFFSETFROM:-0600
TZOFFSETTO:-0500
TZNAME:CDT
DTSTART:20260308T080000
END:DAYLIGHT
BEGIN:STANDARD
TZOFFSETFROM:-0500
TZOFFSETTO:-0600
TZNAME:CST
DTSTART:20261101T070000
END:STANDARD
BEGIN:DAYLIGHT
TZOFFSETFROM:-0600
TZOFFSETTO:-0500
TZNAME:CDT
DTSTART:20270314T080000
END:DAYLIGHT
BEGIN:STANDARD
TZOFFSETFROM:-0500
TZOFFSETTO:-0600
TZNAME:CST
DTSTART:20271107T070000
END:STANDARD
END:VTIMEZONE
BEGIN:VEVENT
DTSTART;TZID=America/Winnipeg:20260401T090000
DTEND;TZID=America/Winnipeg:20260630T170000
DTSTAMP:20260422T165256
CREATED:20260325T175908Z
LAST-MODIFIED:20260325T175908Z
UID:602231165-1775034000-1782838800@www.winnipegfreepress.com
SUMMARY:Spring School Series - Walking Tours
DESCRIPTION:This spring\, Turtle Tours is inviting school groups to The Forks for an Indigenous-led walking tour rooted in place\, story\, and connection. \nInstead of learning from a textbook\, students walk the land where thousands of years of history happened. Through storytelling and discussion\, they learn about treaties\, trade\, the rivers\, and Indigenous perspectives from guides who are connected to this place. \nIt’s a simple but powerful shift\, students don’t just learn about history\, they experience it. \nThe 60-minute tour is designed for Grades 4–12 and supports what students are already learning in the classroom\, including Social Studies\, Indigenous Studies\, Geography\, Civics\, Economics\, and oral storytelling. \nSpring bookings are open for April\, May\, and June\, with group sizes up to 30 students. \nFor teachers looking for something meaningful\, local\, and actually engaging for their students… this is it.
URL:https://www.winnipegfreepress.com/event/spring-school-series-walking-tours
LOCATION:The Forks\, Forks Market Rd\, Winnipeg\, Manitoba\, R3C 4S8\, Canada
ATTACH;FMTTYPE=image/png:https://www.winnipegfreepress.com/wp-content/uploads/sites/2/2026/03/20260320_174922930_iOS.png
END:VEVENT
BEGIN:VEVENT
DTSTART;TZID=America/Winnipeg:20260422T110000
DTEND;TZID=America/Winnipeg:20260422T150000
DTSTAMP:20260422T165256
CREATED:20260420T140317Z
LAST-MODIFIED:20260420T140317Z
UID:602255149-1776855600-1776870000@www.winnipegfreepress.com
SUMMARY:Earth Day
DESCRIPTION:High-five Planet Earth! Join us for a jam-packed Earth Day celebration featuring exciting activities\, crafts\, and special guests – all designed to spark curiosity and inspire kids to protect our planet. Being green has never been this fun! \nYour Earth Day adventure includes:\n – Puzzle-Piece Tree Craft – Create your own piece of a collaborative art installation\n – Seed Paper Station – Press your own seed paper to take home and grow something beautiful\n – Sustainability Story Times – Two themed read-alouds woven into the fun\n – Interactive Activity Stations – Hands-on learning with our special guests  \nSpecial Guests (11:00AM – 3:00PM):\n – Treaty Relations Commission of Manitoba Speakers Bureau – featuring Marlene Gallagher (11:00AM)\n – Canadian Parks and Wilderness Society\n – Prairie Climate Centre – The Race To Recycle! Sorting Game
URL:https://www.winnipegfreepress.com/event/earth-day
LOCATION:Manitoba Children’s Museum\, 45 Forks Market Road\, Winnipeg\, Manitoba\, R3C 4T6\, Canada
ATTACH;FMTTYPE=image/jpeg:https://www.winnipegfreepress.com/wp-content/uploads/sites/2/2026/04/Earth-Day-2024-02-scaled-1.jpg
END:VEVENT
END:VCALENDAR