BEGIN:VCALENDAR
VERSION:2.0
PRODID:-//Winnipeg Free Press - ECPv6.15.20//NONSGML v1.0//EN
CALSCALE:GREGORIAN
METHOD:PUBLISH
X-WR-CALNAME:Winnipeg Free Press
X-ORIGINAL-URL:https://www.winnipegfreepress.com
X-WR-CALDESC:Events for Winnipeg Free Press
REFRESH-INTERVAL;VALUE=DURATION:PT1H
X-Robots-Tag:noindex
X-PUBLISHED-TTL:PT1H
BEGIN:VTIMEZONE
TZID:America/Winnipeg
BEGIN:DAYLIGHT
TZOFFSETFROM:-0600
TZOFFSETTO:-0500
TZNAME:CDT
DTSTART:20250309T080000
END:DAYLIGHT
BEGIN:STANDARD
TZOFFSETFROM:-0500
TZOFFSETTO:-0600
TZNAME:CST
DTSTART:20251102T070000
END:STANDARD
BEGIN:DAYLIGHT
TZOFFSETFROM:-0600
TZOFFSETTO:-0500
TZNAME:CDT
DTSTART:20260308T080000
END:DAYLIGHT
BEGIN:STANDARD
TZOFFSETFROM:-0500
TZOFFSETTO:-0600
TZNAME:CST
DTSTART:20261101T070000
END:STANDARD
BEGIN:DAYLIGHT
TZOFFSETFROM:-0600
TZOFFSETTO:-0500
TZNAME:CDT
DTSTART:20270314T080000
END:DAYLIGHT
BEGIN:STANDARD
TZOFFSETFROM:-0500
TZOFFSETTO:-0600
TZNAME:CST
DTSTART:20271107T070000
END:STANDARD
END:VTIMEZONE
BEGIN:VEVENT
DTSTART;TZID=America/Winnipeg:20260401T090000
DTEND;TZID=America/Winnipeg:20260630T170000
DTSTAMP:20260425T160628
CREATED:20260325T175908Z
LAST-MODIFIED:20260325T175908Z
UID:602231165-1775034000-1782838800@www.winnipegfreepress.com
SUMMARY:Spring School Series - Walking Tours
DESCRIPTION:This spring\, Turtle Tours is inviting school groups to The Forks for an Indigenous-led walking tour rooted in place\, story\, and connection. \nInstead of learning from a textbook\, students walk the land where thousands of years of history happened. Through storytelling and discussion\, they learn about treaties\, trade\, the rivers\, and Indigenous perspectives from guides who are connected to this place. \nIt’s a simple but powerful shift\, students don’t just learn about history\, they experience it. \nThe 60-minute tour is designed for Grades 4–12 and supports what students are already learning in the classroom\, including Social Studies\, Indigenous Studies\, Geography\, Civics\, Economics\, and oral storytelling. \nSpring bookings are open for April\, May\, and June\, with group sizes up to 30 students. \nFor teachers looking for something meaningful\, local\, and actually engaging for their students… this is it.
URL:https://www.winnipegfreepress.com/event/spring-school-series-walking-tours
LOCATION:The Forks\, Forks Market Rd\, Winnipeg\, Manitoba\, R3C 4S8\, Canada
ATTACH;FMTTYPE=image/png:https://www.winnipegfreepress.com/wp-content/uploads/sites/2/2026/03/20260320_174922930_iOS.png
END:VEVENT
BEGIN:VEVENT
DTSTART;VALUE=DATE:20260424
DTEND;VALUE=DATE:20260509
DTSTAMP:20260425T160628
CREATED:20260420T140318Z
LAST-MODIFIED:20260420T140318Z
UID:602256943-1776988800-1778284799@www.winnipegfreepress.com
SUMMARY:BFA Honours Graduating Exhibition 2026
DESCRIPTION:The University of Manitoba School of Art presents the BFA Honours Graduating Exhibition 2026\, opening April 24 at ARTlab. \nThis annual exhibition features 27 graduating artists and transforms four floors of ARTlab into a building-wide presentation across photography\, sculpture\, ceramics\, installation\, video\, and design. Showcasing a wide range of contemporary practices\, the exhibition offers a strong snapshot of emerging artistic voices in Winnipeg. \nParticipating artists: Madeleine Alsip\, Juca Aquino\, Pamela Baptista\, Arielle Boone\, Jenny Chen\, Reilly Cranney\, Hannah DeBin\, Cae Duncan\, Charli Feener\, Emma Gillich\, Brian Guevarra\, Julia Mary Langer\, Brody McQueen\, Anaies Mehrabian\, Peyton Nam\, Amelie-Rae Patrick\, Shakira Rampersad\, Jasmin Reimer\, Hope Richards\, Will Roshka\, Jed Santos\, Ibrahim Shuaib\, Kamryn Skoczylas\, Rebecca Smith\, Marilyn Wood\, Corinne Young\, Gyubo Yun. \nOpening Reception: Friday\, April 24\, 5:00–8:00 PM\nIncludes a student print sale\, live performances\, and a film/video screening program at 7:00 PM. \nExhibition continues daily from April 25 to May 8\, 10:00 AM–4:30 PM.
URL:https://www.winnipegfreepress.com/event/bfa-honours-graduating-exhibition-2026
LOCATION:Manitoba
ATTACH;FMTTYPE=image/jpeg:https://www.winnipegfreepress.com/wp-content/uploads/sites/2/2026/04/IMG_7972_bc1255.jpg
END:VEVENT
BEGIN:VEVENT
DTSTART;VALUE=DATE:20260424
DTEND;VALUE=DATE:20260518
DTSTAMP:20260425T160628
CREATED:20260414T170017Z
LAST-MODIFIED:20260414T170017Z
UID:602247579-1776988800-1779062399@www.winnipegfreepress.com
SUMMARY:Otosan
DESCRIPTION:By Little Onion Puppet Co.\nCreated by Shizuka Kai\, Jess Amy Shead\, and Randi Edmundson \nSpirited Shizu and her serious father struggle to appreciate each other until the day she hides in her father’s suitcase and travels secretly to his most dangerous destination …The North. Featuring puppets\, real wildlife footage projections\, highly physical storytelling and an original score\, Otosan is based on playwright Shizuka Kai’s real life experiences of trying to connect with her father\, a dedicated wildlife documentary videographer.
URL:https://www.winnipegfreepress.com/event/otosan
LOCATION:Manitoba Theatre for Young People\, 2 Forks Market Rd.\, Winnipeg\, Manitoba\, R3C 4X1\, Canada
ATTACH;FMTTYPE=image/png:https://www.winnipegfreepress.com/wp-content/uploads/sites/2/2026/04/2025-26_Otosan.png
END:VEVENT
BEGIN:VEVENT
DTSTART;TZID=America/Winnipeg:20260424T100000
DTEND;TZID=America/Winnipeg:20260426T170000
DTSTAMP:20260425T160628
CREATED:20260325T175928Z
LAST-MODIFIED:20260325T175928Z
UID:602230178-1777024800-1777222800@www.winnipegfreepress.com
SUMMARY:Children’s Hospital Book Market Spring Sale
DESCRIPTION:Visit St. Vital Centre from April 24 – 26 to shop for great books of all genres and support sick and injured kids in your community at the Children’s Hospital Book Market! All funds raised stay in Manitoba to help kids who need HSC Children’s Hospital. \nChildren’s Hospital Book Market spring sale hours:\nFriday\, April 24 | 10:00 am – 9:00 pm\nSaturday\, April 25 | 10:00 am – 6:00 pm\nSunday\, April 26 | 11:00 am – 5:00 pm
URL:https://www.winnipegfreepress.com/event/childrens-hospital-book-market-spring-sale
LOCATION:St. Vital Centre\, 1225 St. Mary's Rd\, Winnipeg\, MB\, Canada
ATTACH;FMTTYPE=image/png:https://www.winnipegfreepress.com/wp-content/uploads/sites/2/2026/03/2026-Spring-Sale-FB-and-TW-size.png
END:VEVENT
BEGIN:VEVENT
DTSTART;TZID=America/Winnipeg:20260424T100000
DTEND;TZID=America/Winnipeg:20260426T190000
DTSTAMP:20260425T160628
CREATED:20260311T151521Z
LAST-MODIFIED:20260311T151521Z
UID:602208317-1777024800-1777230000@www.winnipegfreepress.com
SUMMARY:2nd Annual Mother's Day Pop Up
DESCRIPTION:Looking for great gifts for Mother’s Day? Check out our amazing local vendors from baked goods to candles\, to clothing to jewelry\, house products\, and more!  \nFriday\, April 24\, 10 – 7 pm\nSaturday\, April 25\, 10 – 6 pm\nSunday\, April 26\, 11 – 6 pm \nFor more information:\nEmail trinityevents.bookings@gmail.com
URL:https://www.winnipegfreepress.com/event/2nd-annual-mothers-day-pop-up
LOCATION:kildonan place shopping centre\, 1555 Regent Ave. W\, Winnipeg\, Manitoba\, R2C 4J2\, Canada
ATTACH;FMTTYPE=image/jpeg:https://www.winnipegfreepress.com/wp-content/uploads/sites/2/2026/03/KP-Spring-2026.jpg
END:VEVENT
BEGIN:VEVENT
DTSTART;TZID=America/Winnipeg:20260424T100000
DTEND;TZID=America/Winnipeg:20260426T190000
DTSTAMP:20260425T160628
CREATED:20260414T170017Z
LAST-MODIFIED:20260414T170017Z
UID:602247931-1777024800-1777230000@www.winnipegfreepress.com
SUMMARY:2nd Annual Mother's Day Pop Up Market
DESCRIPTION:Check out some amazing finds just in time for Mother’s Day! From yummy baked goods to jewelry\, house decor to candles\, crystals\, and more!  \nFind us in the hallway between Sunrise Dental and Junxion Theatre! \nFriday\, April 24\, 2026\n10 – 7 pm \nSaturday\, April 25\, 2026\n10 – 6 pm \nSunday\, April 26\, 2026\n11 – 6 pm
URL:https://www.winnipegfreepress.com/event/2nd-annual-mothers-day-pop-up-market
LOCATION:kildonan place shopping centre\, 1555 Regent Ave. W\, Winnipeg\, Manitoba\, R2C 4J2\, Canada
ATTACH;FMTTYPE=image/jpeg:https://www.winnipegfreepress.com/wp-content/uploads/sites/2/2026/04/GP-Spring-2026.jpeg
END:VEVENT
BEGIN:VEVENT
DTSTART;TZID=America/Winnipeg:20260424T170000
DTEND;TZID=America/Winnipeg:20260508T163000
DTSTAMP:20260425T160628
CREATED:20260421T214635Z
LAST-MODIFIED:20260421T214635Z
UID:602256577-1777050000-1778257800@www.winnipegfreepress.com
SUMMARY:BFA Honours Graduating Exhibition 2026
DESCRIPTION:The University of Manitoba School of Art presents the BFA Honours Graduating Exhibition 2026\, opening April 24 at ARTlab. \nThis annual exhibition features 27 graduating artists and transforms four floors of ARTlab into a building-wide presentation across photography\, sculpture\, ceramics\, installation\, video\, and design. Showcasing a wide range of contemporary practices\, the exhibition offers a strong snapshot of emerging artistic voices in Winnipeg. \nParticipating artists: Madeleine Alsip\, Juca Aquino\, Pamela Baptista\, Arielle Boone\, Jenny Chen\, Reilly Cranney\, Hannah DeBin\, Cae Duncan\, Charli Feener\, Emma Gillich\, Brian Guevarra\, Julia Mary Langer\, Brody McQueen\, Anaies Mehrabian\, Peyton Nam\, Amelie-Rae Patrick\, Shakira Rampersad\, Jasmin Reimer\, Hope Richards\, Will Roshka\, Jed Santos\, Ibrahim Shuaib\, Kamryn Skoczylas\, Rebecca Smith\, Marilyn Wood\, Corinne Young\, Gyubo Yun. \nOpening Reception: Friday\, April 24\, 5:00–8:00 PM\nIncludes a student print sale\, live performances\, and a film/video screening program at 7:00 PM. \nExhibition continues daily from April 25 to May 8\, 10:00 AM–4:30 PM.
URL:https://www.winnipegfreepress.com/event/bfa-honours-graduating-exhibition-2026-2
LOCATION:Manitoba
ATTACH;FMTTYPE=image/jpeg:https://www.winnipegfreepress.com/wp-content/uploads/sites/2/2026/04/IMG_7972.jpg
END:VEVENT
BEGIN:VEVENT
DTSTART;TZID=America/Winnipeg:20260425T090000
DTEND;TZID=America/Winnipeg:20260425T160000
DTSTAMP:20260425T160628
CREATED:20260114T201820Z
LAST-MODIFIED:20260126T185707Z
UID:602112033-1777107600-1777132800@www.winnipegfreepress.com
SUMMARY:Manitoba Photo Events presents CURTIS JONES
DESCRIPTION:Photographers who enjoy being inspired through a presentation will enjoy attending this all day event.  The event also offers an opportunity to meet other photographers and share experiences.  This all day event includes parking and lunch.  For more information on the presentation topics and to register\, go to: \nPresenting Curtis Jones
URL:https://www.winnipegfreepress.com/event/manitoba-photo-events-presents-curtis-jones
LOCATION:University of Manitoba\, 65 Chancellor Circle\, Winnipeg\, Manitoba\, R3T 2N2\, Canada
ATTACH;FMTTYPE=image/jpeg:https://www.winnipegfreepress.com/wp-content/uploads/sites/2/2026/01/Curtis-Jones-Poster-April-25-2026-U-of-M.jpg
END:VEVENT
BEGIN:VEVENT
DTSTART;TZID=America/Winnipeg:20260425T100000
DTEND;TZID=America/Winnipeg:20260425T160000
DTSTAMP:20260425T160628
CREATED:20260330T161850Z
LAST-MODIFIED:20260330T161850Z
UID:602237045-1777111200-1777132800@www.winnipegfreepress.com
SUMMARY:Rise and Shine Spring Show and Market
DESCRIPTION:Rise and Shine Spring Show & Market at 618 ARTlington is April 25! \nCelebrate spring with a market filled with fresh work\, new collections\, and renewed creative energy. Browse artwork and handmade goods that are perfect for Mother’s Day gifts or a little cottage refresh. \nIncluding: Margaret Jane Design\, Rachael Kroeker Ceramics\, Sarah Sue Design\, WOOL MOUNTAIN\, Kristie MAH baskets\, clothing & fine art\, Just for Fun Craft Studio\, Christine A Seaver\, Danielle Fontaine Koslowsky\, #MightyMel\, Creative Revival Co\, Jane Gateson\, Sandra Vincent Sculpture\, Laura Hilland Glassworks\, Tracy Woodward\, Glass by Jess\, Rhoda Chan\, Helen Harper Creations\, Roger Gateson\, Bonnie Cadieux\, Bearberry Creations and more! \n****This is a free\, non-ticketed event running ONE DAY ONLY: April 25 (10am–4pm) \n****Street parking is available on Arlington St and neighbouring side streets. \nPlease note: 618 is a heritage building and is unfortunately not wheelchair accessible. There are eight steps from the front door to the main level\, with additional stairs to the lower and upper levels. \n#RiseAndShineMarket #618ARTlington #WinnipegArt #WinnipegArtists #WinnipegMakers #SupportLocalWinnipeg #ShopLocalWinnipeg #ManitobaMade #HandmadeWinnipeg #ExploreWinnipeg
URL:https://www.winnipegfreepress.com/event/rise-and-shine-spring-show-and-market
LOCATION:Manitoba
ATTACH;FMTTYPE=image/jpeg:https://www.winnipegfreepress.com/wp-content/uploads/sites/2/2026/03/Rise-and-Shine-2026-FB-Event.jpg
END:VEVENT
BEGIN:VEVENT
DTSTART;TZID=America/Winnipeg:20260425T120000
DTEND;TZID=America/Winnipeg:20260426T190000
DTSTAMP:20260425T160628
CREATED:20260402T140814Z
LAST-MODIFIED:20260402T140814Z
UID:602241385-1777118400-1777230000@www.winnipegfreepress.com
SUMMARY:Spark Your Future: Youth Entrepeneurs Forum & Pop-Up Market
DESCRIPTION:Join us for a dynamic weekend filled with inspiring talks and opportunities to help you ignite your own creativity\, innovation and business success. \nEvent Date:\nSaturday\, April 25\, 2026\n12-7PM | Pop-up Market – Youth & Non Youth Local Entrepreneurs\n*Open to the public\, FREE ADMISSION!  \nSunday\, April 26\, 2026\n12-7PM | Pop-up Market – Youth & Non Youth Local Entrepreneurs\n*Open to the public\, FREE ADMISSION!  \n*4-6PM | Spark Your Future Youth Entrepreneurs Forum\n*6-7PM | Networking Mixer – Free Refreshments! \nOpportunity for Youth and Non Youth to learn and get together for meaningful conversations. \nLocation: The Forks Market Event Space\, Room 201\n1 Forks Market Rd\, Winnipeg\, MB R3C 4L9
URL:https://www.winnipegfreepress.com/event/spark-your-future-youth-entrepeneurs-forum-pop-up-market
LOCATION:The Forks\, Forks Market Rd\, Winnipeg\, Manitoba\, R3C 4S8\, Canada
ATTACH;FMTTYPE=image/jpeg:https://www.winnipegfreepress.com/wp-content/uploads/sites/2/2026/04/IMG_2583.jpeg
END:VEVENT
BEGIN:VEVENT
DTSTART;TZID=America/Winnipeg:20260425T130000
DTEND;TZID=America/Winnipeg:20260606T180000
DTSTAMP:20260425T160628
CREATED:20260420T140319Z
LAST-MODIFIED:20260420T140319Z
UID:602261381-1777122000-1780768800@www.winnipegfreepress.com
SUMMARY:Pickleball Clinics
DESCRIPTION:From Beginner to Advanced Players\nWhether you’re brand new to pickleball or ready to elevate your competitive game\, Bison Pickleball has a program for you!\n– Learn the fundamentals with confidence\n– Improve strategy\, consistency\, and court awareness\n– Train with structured drills and game-based learning\n– Programs designed for all skill levels — beginner to advanced\nAt Bison Pickleball\, we focus on developing skills\, building community\, and having fun on the court. Our sessions are designed to help you progress at your pace while challenging you to reach the next level.\nTrain smarter. Play better. Join the herd.\nVisit the Bison Pickleball website at https://bisonpickleball.ca/ to register today!
URL:https://www.winnipegfreepress.com/event/pickleball-clinics
LOCATION:Red River College\, 2055 Notre Dame Avenue\, Winnipeg\, Manitoba\, R3H0J9\, Canada
ATTACH;FMTTYPE=image/png:https://www.winnipegfreepress.com/wp-content/uploads/sites/2/2026/04/bison-test-7.png
END:VEVENT
BEGIN:VEVENT
DTSTART;TZID=America/Winnipeg:20260425T180000
DTEND;TZID=America/Winnipeg:20260425T230000
DTSTAMP:20260425T160628
CREATED:20260330T142348Z
LAST-MODIFIED:20260330T142348Z
UID:602236934-1777140000-1777158000@www.winnipegfreepress.com
SUMMARY:Prawda Country Dance for Reynolds Food Bank
DESCRIPTION:An old fashioned country music dance to support our local food bank. Come out to Prawda\, Manitoba to enjoy live music\, square dancing\, and good food and drinks. Family friendly. Admission is at the door\, adults $20\, kids $5.
URL:https://www.winnipegfreepress.com/event/prawda-country-dance-for-reynolds-food-bank
LOCATION:Manitoba
ATTACH;FMTTYPE=image/jpeg:https://www.winnipegfreepress.com/wp-content/uploads/sites/2/2026/03/Prawda-Country-dance-2026-instagram-square-less-info.jpg
END:VEVENT
END:VCALENDAR