BEGIN:VCALENDAR
VERSION:2.0
PRODID:-//Winnipeg Free Press - ECPv6.15.20//NONSGML v1.0//EN
CALSCALE:GREGORIAN
METHOD:PUBLISH
X-WR-CALNAME:Winnipeg Free Press
X-ORIGINAL-URL:https://www.winnipegfreepress.com
X-WR-CALDESC:Events for Winnipeg Free Press
REFRESH-INTERVAL;VALUE=DURATION:PT1H
X-Robots-Tag:noindex
X-PUBLISHED-TTL:PT1H
BEGIN:VTIMEZONE
TZID:America/Winnipeg
BEGIN:DAYLIGHT
TZOFFSETFROM:-0600
TZOFFSETTO:-0500
TZNAME:CDT
DTSTART:20250309T080000
END:DAYLIGHT
BEGIN:STANDARD
TZOFFSETFROM:-0500
TZOFFSETTO:-0600
TZNAME:CST
DTSTART:20251102T070000
END:STANDARD
BEGIN:DAYLIGHT
TZOFFSETFROM:-0600
TZOFFSETTO:-0500
TZNAME:CDT
DTSTART:20260308T080000
END:DAYLIGHT
BEGIN:STANDARD
TZOFFSETFROM:-0500
TZOFFSETTO:-0600
TZNAME:CST
DTSTART:20261101T070000
END:STANDARD
BEGIN:DAYLIGHT
TZOFFSETFROM:-0600
TZOFFSETTO:-0500
TZNAME:CDT
DTSTART:20270314T080000
END:DAYLIGHT
BEGIN:STANDARD
TZOFFSETFROM:-0500
TZOFFSETTO:-0600
TZNAME:CST
DTSTART:20271107T070000
END:STANDARD
END:VTIMEZONE
BEGIN:VEVENT
DTSTART;TZID=America/Winnipeg:20260515T190000
DTEND;TZID=America/Winnipeg:20260517T180000
DTSTAMP:20260419T204941
CREATED:20260406T144705Z
LAST-MODIFIED:20260406T144705Z
UID:602243316-1778871600-1779040800@www.winnipegfreepress.com
SUMMARY:Keycon 42
DESCRIPTION:Keycon is a not-for-profit volunteer run convention\, fully run by fans just like you! We are Manitoba’s mixed-media fandom convention. This means we invite fandoms of all types as one big community! It is traditionally held in Winnipeg\, Manitoba\, Canada on the Victoria Day long weekend\, every year since 1982!  \nIt focuses on science fiction\, fantasy and related genres in any form. It includes\, but is not limited to\, writing\, visual arts\, television and film. In terms of content\, we might compare it to a Comic Con or an Anime Con\, however the size and the format is actually quite a bit different. \nKeycon is a far more personal experience with un-monetized Guest interaction\, themed hospitality suites\, and a focus on community and connection. This often involves connecting our guests with the fans via informal contact throughout the convention.
URL:https://www.winnipegfreepress.com/event/keycon-42
CATEGORIES:Media Literacy & Learning
ATTACH;FMTTYPE=image/png:https://www.winnipegfreepress.com/wp-content/uploads/sites/2/2026/04/travel_mb8x6.png
END:VEVENT
BEGIN:VEVENT
DTSTART;VALUE=DATE:20260523
DTEND;VALUE=DATE:20260525
DTSTAMP:20260419T204941
CREATED:20260313T234129Z
LAST-MODIFIED:20260313T234129Z
UID:602213150-1779494400-1779667199@www.winnipegfreepress.com
SUMMARY:Friends of the Winnipeg Public Library Annual Book Sale
DESCRIPTION:Friends of the Winnipeg Public Library – Annual Book Sale \nBook lovers will want to mark their calendars for the Annual Book Sale hosted by the Friends of the Winnipeg Public Library. One of the city’s largest book sales\, the event features thousands of carefully curated used books looking for new homes. \nShoppers can browse a wide selection of current\, collectible\, and vintage titles across many categories\, including fiction\, mystery\, Canadiana\, history\, art\, cooking\, children’s books\, fantasy\, science fiction and more. In addition to books\, the sale also offers DVDs\, CDs and LP records. \nA great opportunity to stock up on reading material at bargain prices.  *NEW LOCATION THIS YEAR:  The Pembina Curling Club  – 1341 Pembina Hwy *  \nAll proceeds support programs and special projects of the Winnipeg Public Library. 📚
URL:https://www.winnipegfreepress.com/event/friends-of-the-winnipeg-public-library-annual-book-sale
CATEGORIES:Media Literacy & Learning
ATTACH;FMTTYPE=image/png:https://www.winnipegfreepress.com/wp-content/uploads/sites/2/2026/03/Screenshot-2026-03-12-at-5.34.04-PM.png
END:VEVENT
END:VCALENDAR