BEGIN:VCALENDAR
VERSION:2.0
PRODID:-//Our Communities - ECPv6.15.20//NONSGML v1.0//EN
CALSCALE:GREGORIAN
METHOD:PUBLISH
X-ORIGINAL-URL:https://www.winnipegfreepress.com/our-communities
X-WR-CALDESC:Events for Our Communities
REFRESH-INTERVAL;VALUE=DURATION:PT1H
X-Robots-Tag:noindex
X-PUBLISHED-TTL:PT1H
BEGIN:VTIMEZONE
TZID:America/Winnipeg
BEGIN:DAYLIGHT
TZOFFSETFROM:-0600
TZOFFSETTO:-0500
TZNAME:CDT
DTSTART:20250309T080000
END:DAYLIGHT
BEGIN:STANDARD
TZOFFSETFROM:-0500
TZOFFSETTO:-0600
TZNAME:CST
DTSTART:20251102T070000
END:STANDARD
BEGIN:DAYLIGHT
TZOFFSETFROM:-0600
TZOFFSETTO:-0500
TZNAME:CDT
DTSTART:20260308T080000
END:DAYLIGHT
BEGIN:STANDARD
TZOFFSETFROM:-0500
TZOFFSETTO:-0600
TZNAME:CST
DTSTART:20261101T070000
END:STANDARD
BEGIN:DAYLIGHT
TZOFFSETFROM:-0600
TZOFFSETTO:-0500
TZNAME:CDT
DTSTART:20270314T080000
END:DAYLIGHT
BEGIN:STANDARD
TZOFFSETFROM:-0500
TZOFFSETTO:-0600
TZNAME:CST
DTSTART:20271107T070000
END:STANDARD
END:VTIMEZONE
BEGIN:VEVENT
DTSTART;TZID=America/Winnipeg:20260919T100000
DTEND;TZID=America/Winnipeg:20260919T150000
DTSTAMP:20260424T180349
CREATED:20260419T190137Z
LAST-MODIFIED:20260419T190137Z
UID:600188130-1789812000-1789830000@www.winnipegfreepress.com
SUMMARY:Magical Makers Market
DESCRIPTION:We will have over 30 fun and unique vendors! \nSpecial visit from Tinkerbell from 11:00 to 1:00 \nFree face painting by Unplain Jayne from 1:00 to 3:00 \nPhoto op station – take your market haul photos and tag your favourite vendors!
URL:https://www.winnipegfreepress.com/our-communities/event/magical-makers-market
ATTACH;FMTTYPE=image/png:https://www.winnipegfreepress.com/our-communities/wp-content/uploads/sites/5/2026/04/magical-makers.png
END:VEVENT
BEGIN:VEVENT
DTSTART;TZID=America/Winnipeg:20260919T100000
DTEND;TZID=America/Winnipeg:20260919T160000
DTSTAMP:20260424T180349
CREATED:20260310T211614Z
LAST-MODIFIED:20260310T211614Z
UID:600186531-1789812000-1789833600@www.winnipegfreepress.com
SUMMARY:Harte Trail Art Studio Tour
DESCRIPTION:Spend the weekend exploring the creations of local Winnipeg artists. The Harte Trail Studio Art Tour is happening this September 19- 20\, from 10 am to 4 pm.\nGather your friends and prepare for a weekend bursting with colour\, vibrancy\, and boundless creativity! \nThis Harte Trail Studio Art Tour provides an immersive experience\, allowing visitors to explore our artisan studios and artwork and to engage personally with our artists. We encourage visitors to engage with our artists as they share their passion for creative visual art\, stone carvings\, clay sculptures\, wood carvings\, dynamic photography and intriguing ceramics!\nWith 23 artists showcased across 21 studios within Charleswood and Tuxedo – all you need is a our studio map (available on our website closer to the date) and some free time. Each studio is so interesting – you may just want to visit them all.\nVisit our website at hartetrailstudiotour.net for more information.\nSo\, gather a few friends or come alone — everyone’s welcome!
URL:https://www.winnipegfreepress.com/our-communities/event/harte-trail-art-studio-tour
ATTACH;FMTTYPE=image/jpeg:https://www.winnipegfreepress.com/our-communities/wp-content/uploads/sites/5/2026/03/HTST-Logo.jpg
END:VEVENT
END:VCALENDAR